BEGIN:VCALENDAR
VERSION:2.0
PRODID:-//This is Midhurst - ECPv6.15.20//NONSGML v1.0//EN
CALSCALE:GREGORIAN
METHOD:PUBLISH
X-WR-CALNAME:This is Midhurst
X-ORIGINAL-URL:https://thisismidhurst.com
X-WR-CALDESC:Events for This is Midhurst
REFRESH-INTERVAL;VALUE=DURATION:PT1H
X-Robots-Tag:noindex
X-PUBLISHED-TTL:PT1H
BEGIN:VTIMEZONE
TZID:Europe/London
BEGIN:DAYLIGHT
TZOFFSETFROM:+0000
TZOFFSETTO:+0100
TZNAME:BST
DTSTART:20250330T010000
END:DAYLIGHT
BEGIN:STANDARD
TZOFFSETFROM:+0100
TZOFFSETTO:+0000
TZNAME:GMT
DTSTART:20251026T010000
END:STANDARD
BEGIN:DAYLIGHT
TZOFFSETFROM:+0000
TZOFFSETTO:+0100
TZNAME:BST
DTSTART:20260329T010000
END:DAYLIGHT
BEGIN:STANDARD
TZOFFSETFROM:+0100
TZOFFSETTO:+0000
TZNAME:GMT
DTSTART:20261025T010000
END:STANDARD
BEGIN:DAYLIGHT
TZOFFSETFROM:+0000
TZOFFSETTO:+0100
TZNAME:BST
DTSTART:20270328T010000
END:DAYLIGHT
BEGIN:STANDARD
TZOFFSETFROM:+0100
TZOFFSETTO:+0000
TZNAME:GMT
DTSTART:20271031T010000
END:STANDARD
END:VTIMEZONE
BEGIN:VEVENT
DTSTART;TZID=Europe/London:20260324T190000
DTEND;TZID=Europe/London:20260324T220000
DTSTAMP:20260425T205740
CREATED:20260305T103923Z
LAST-MODIFIED:20260305T110521Z
UID:150-1774378800-1774389600@thisismidhurst.com
SUMMARY:Cocking Film Night
DESCRIPTION:
URL:https://thisismidhurst.com/event/cocking-film-night/
LOCATION:Cocking Village Hall\, Cocking Village Hall\, Cocking\, Midhurst\, GU29 0HU\, United Kingdom
CATEGORIES:Community Event
END:VEVENT
END:VCALENDAR