BEGIN:VCALENDAR
VERSION:2.0
PRODID:-//This is Midhurst - ECPv6.15.20//NONSGML v1.0//EN
CALSCALE:GREGORIAN
METHOD:PUBLISH
X-WR-CALNAME:This is Midhurst
X-ORIGINAL-URL:https://thisismidhurst.com
X-WR-CALDESC:Events for This is Midhurst
REFRESH-INTERVAL;VALUE=DURATION:PT1H
X-Robots-Tag:noindex
X-PUBLISHED-TTL:PT1H
BEGIN:VTIMEZONE
TZID:Europe/London
BEGIN:DAYLIGHT
TZOFFSETFROM:+0000
TZOFFSETTO:+0100
TZNAME:BST
DTSTART:20250330T010000
END:DAYLIGHT
BEGIN:STANDARD
TZOFFSETFROM:+0100
TZOFFSETTO:+0000
TZNAME:GMT
DTSTART:20251026T010000
END:STANDARD
BEGIN:DAYLIGHT
TZOFFSETFROM:+0000
TZOFFSETTO:+0100
TZNAME:BST
DTSTART:20260329T010000
END:DAYLIGHT
BEGIN:STANDARD
TZOFFSETFROM:+0100
TZOFFSETTO:+0000
TZNAME:GMT
DTSTART:20261025T010000
END:STANDARD
BEGIN:DAYLIGHT
TZOFFSETFROM:+0000
TZOFFSETTO:+0100
TZNAME:BST
DTSTART:20270328T010000
END:DAYLIGHT
BEGIN:STANDARD
TZOFFSETFROM:+0100
TZOFFSETTO:+0000
TZNAME:GMT
DTSTART:20271031T010000
END:STANDARD
END:VTIMEZONE
BEGIN:VEVENT
DTSTART;TZID=Europe/London:20260403T100000
DTEND;TZID=Europe/London:20260403T170000
DTSTAMP:20260424T174830
CREATED:20260312T164023Z
LAST-MODIFIED:20260312T164023Z
UID:645-1775210400-1775235600@thisismidhurst.com
SUMMARY:Easter Trail at Cowdray Ruins
DESCRIPTION:
URL:https://thisismidhurst.com/event/easter-trail-at-cowdray-ruins-2/
LOCATION:Cowdray Ruins\, Cowdray Ruins\, Midhurst\, West Sussex\, GU29\, United Kingdom
END:VEVENT
BEGIN:VEVENT
DTSTART;TZID=Europe/London:20260402T100000
DTEND;TZID=Europe/London:20260402T170000
DTSTAMP:20260424T174830
CREATED:20260312T163155Z
LAST-MODIFIED:20260312T163707Z
UID:640-1775124000-1775149200@thisismidhurst.com
SUMMARY:Easter Trail at Cowdray Ruins
DESCRIPTION:
URL:https://thisismidhurst.com/event/easter-trail-at-cowdray-ruins/
END:VEVENT
BEGIN:VEVENT
DTSTART;TZID=Europe/London:20260329T100000
DTEND;TZID=Europe/London:20260329T130000
DTSTAMP:20260424T174830
CREATED:20260312T082240Z
LAST-MODIFIED:20260312T110825Z
UID:558-1774778400-1774789200@thisismidhurst.com
SUMMARY:Indoor Car Boot
DESCRIPTION:
URL:https://thisismidhurst.com/event/auto-jumble/
LOCATION:The Grange Centre\, Midhurst\, Bepton Road\, Midhurst\, GU29 9HD
CATEGORIES:Market
END:VEVENT
BEGIN:VEVENT
DTSTART;TZID=Europe/London:20260328T190000
DTEND;TZID=Europe/London:20260328T223000
DTSTAMP:20260424T174830
CREATED:20260324T152456Z
LAST-MODIFIED:20260324T152648Z
UID:1083-1774724400-1774737000@thisismidhurst.com
SUMMARY:Epic Comedy
DESCRIPTION:
URL:https://thisismidhurst.com/event/epic-comedy/
LOCATION:Langhams Brewery\, Lodsworth\, Petworth\, West Sussex\, GU28 9BU
END:VEVENT
BEGIN:VEVENT
DTSTART;TZID=Europe/London:20260328T103000
DTEND;TZID=Europe/London:20260328T130000
DTSTAMP:20260424T174830
CREATED:20260312T162946Z
LAST-MODIFIED:20260312T162946Z
UID:635-1774693800-1774702800@thisismidhurst.com
SUMMARY:Learn the Land and Wild Foods of Spring
DESCRIPTION:
URL:https://thisismidhurst.com/event/learn-the-land-and-wild-foods-of-spring/
LOCATION:Cowdray Farm Shop\, Cowdray Farm Shop\, Midhurst\, West Sussex\, GU29 0AQ\, United Kingdom
CATEGORIES:Guided Tour
ORGANIZER;CN="Cowdray Foraging":MAILTO:foraging@cowdray.co.uk
END:VEVENT
BEGIN:VEVENT
DTSTART;TZID=Europe/London:20260326T193000
DTEND;TZID=Europe/London:20260326T220000
DTSTAMP:20260424T174830
CREATED:20260306T094227Z
LAST-MODIFIED:20260306T094742Z
UID:240-1774553400-1774562400@thisismidhurst.com
SUMMARY:Cocking Quiz Night
DESCRIPTION:
URL:https://thisismidhurst.com/event/cocking-quiz-night/
LOCATION:The Blue Bell\, Bell Lane\, Cocking\, Midhurst\, GU29 0HU\, United Kingdom
CATEGORIES:Community Event
END:VEVENT
BEGIN:VEVENT
DTSTART;TZID=Europe/London:20260324T190000
DTEND;TZID=Europe/London:20260324T220000
DTSTAMP:20260424T174830
CREATED:20260305T103923Z
LAST-MODIFIED:20260305T110521Z
UID:150-1774378800-1774389600@thisismidhurst.com
SUMMARY:Cocking Film Night
DESCRIPTION:
URL:https://thisismidhurst.com/event/cocking-film-night/
LOCATION:Cocking Village Hall\, Cocking Village Hall\, Cocking\, Midhurst\, GU29 0HU\, United Kingdom
CATEGORIES:Community Event
END:VEVENT
BEGIN:VEVENT
DTSTART;TZID=Europe/London:20260323T193000
DTEND;TZID=Europe/London:20260323T213000
DTSTAMP:20260424T174830
CREATED:20260312T162606Z
LAST-MODIFIED:20260312T162606Z
UID:630-1774294200-1774301400@thisismidhurst.com
SUMMARY:Sparkling Stargazing Experience
DESCRIPTION:
URL:https://thisismidhurst.com/event/sparkling-stargazing-experience/
LOCATION:Ambersham Polo Grounds\, Ambersham\, Midhurst\, West Sussex\, GU28 0PR
CATEGORIES:Guided Tour
END:VEVENT
BEGIN:VEVENT
DTSTART;TZID=Europe/London:20260323T190000
DTEND;TZID=Europe/London:20260323T210000
DTSTAMP:20260424T174830
CREATED:20260306T075656Z
LAST-MODIFIED:20260306T075656Z
UID:223-1774292400-1774299600@thisismidhurst.com
SUMMARY:Cocking Annual Parish Meeting
DESCRIPTION:
URL:https://thisismidhurst.com/event/cocking-annual-parish-meeting/
LOCATION:Cocking Village Hall\, Cocking Village Hall\, Cocking\, Midhurst\, GU29 0HU\, United Kingdom
CATEGORIES:Town & Parish Council Meetings
END:VEVENT
BEGIN:VEVENT
DTSTART;TZID=Europe/London:20260322T100000
DTEND;TZID=Europe/London:20260322T140000
DTSTAMP:20260424T174830
CREATED:20260312T082734Z
LAST-MODIFIED:20260312T082818Z
UID:564-1774173600-1774188000@thisismidhurst.com
SUMMARY:Auto Jumble
DESCRIPTION:
URL:https://thisismidhurst.com/event/auto-jumble-2/
LOCATION:The Grange Centre\, Midhurst\, Bepton Road\, Midhurst\, GU29 9HD
CATEGORIES:Market
END:VEVENT
BEGIN:VEVENT
DTSTART;TZID=Europe/London:20260321T110000
DTEND;TZID=Europe/London:20260321T120000
DTSTAMP:20260424T174830
CREATED:20260312T161909Z
LAST-MODIFIED:20260312T161909Z
UID:624-1774090800-1774094400@thisismidhurst.com
SUMMARY:Cowdray Ruins Tour
DESCRIPTION:
URL:https://thisismidhurst.com/event/cowdray-ruins-tour/
LOCATION:Cowdray Ruins\, Cowdray Ruins\, Midhurst\, West Sussex\, GU29\, United Kingdom
CATEGORIES:Guided Tour
END:VEVENT
BEGIN:VEVENT
DTSTART;TZID=Europe/London:20260321T083000
DTEND;TZID=Europe/London:20260321T140000
DTSTAMP:20260424T174830
CREATED:20260312T082008Z
LAST-MODIFIED:20260312T082846Z
UID:552-1774081800-1774101600@thisismidhurst.com
SUMMARY:Monthly Market
DESCRIPTION:
URL:https://thisismidhurst.com/event/monthly-market/
LOCATION:The Grange Centre\, Midhurst\, Bepton Road\, Midhurst\, GU29 9HD
CATEGORIES:Market
ORGANIZER;CN="The Grange Centre":MAILTO:grangeevents@everyoneactive.com
END:VEVENT
BEGIN:VEVENT
DTSTART;TZID=Europe/London:20260312T113000
DTEND;TZID=Europe/London:20260312T150000
DTSTAMP:20260424T174830
CREATED:20260312T164439Z
LAST-MODIFIED:20260312T164439Z
UID:649-1773315000-1773327600@thisismidhurst.com
SUMMARY:Afternoon Tea
DESCRIPTION:
URL:https://thisismidhurst.com/event/afternoon-tea/
LOCATION:The Walled Garden\, Riverground Stables\, Midhurst\, West Sussex\, GU29 9AL\, United Kingdom
END:VEVENT
BEGIN:VEVENT
DTSTART;TZID=Europe/London:20260303T190000
DTEND;TZID=Europe/London:20260303T210000
DTSTAMP:20260424T174830
CREATED:20260305T063330Z
LAST-MODIFIED:20260305T080016Z
UID:113-1772564400-1772571600@thisismidhurst.com
SUMMARY:Cocking Parish Council AGM
DESCRIPTION:
URL:https://thisismidhurst.com/event/cocking-parish-council-agm/
LOCATION:Cocking Village Hall\, Cocking Village Hall\, Cocking\, Midhurst\, GU29 0HU\, United Kingdom
CATEGORIES:Town & Parish Council Meetings
END:VEVENT
END:VCALENDAR